BEGIN:VCALENDAR
VERSION:2.0
PRODID:-//Tukios.com/
BEGIN:VEVENT
UID:68c95ae2-353e-4e64-b8c9-8985a006b69f@www.millerfuneralfridley.com
DTSTAMP:20260424T203153Z
DTSTART:20260501T150000Z
DTEND:20260501T160000Z
SUMMARY:Visitation
DESCRIPTION:
URL:https://www.millerfuneralfridley.com/obituaries/joann-grambow
LOCATION:Miller Funeral Home 6210 Highway 65 Northeast  Fridley MN 55432
GEO:45.0809552;-93.2443537
END:VEVENT
END:VCALENDAR