BEGIN:VCALENDAR
VERSION:2.0
PRODID:-//Tukios.com/
BEGIN:VEVENT
UID:53b67b64-d214-4063-8879-27e3c406e23e@www.millerfuneralfridley.com
DTSTAMP:20260424T203057Z
DTSTART:20260501T160000Z
DTEND:20260501T170000Z
SUMMARY:Funeral Service
DESCRIPTION:
URL:https://www.millerfuneralfridley.com/obituaries/joann-grambow
LOCATION:Miller Funeral Home 6210 Highway 65 Northeast  Fridley MN 55432
GEO:45.0809552;-93.2443537
END:VEVENT
END:VCALENDAR