BEGIN:VCALENDAR
VERSION:2.0
PRODID:-//Tukios.com/
BEGIN:VEVENT
UID:05f1795e-2361-4847-9ad4-1a048163224d@www.millerfuneralfridley.com
DTSTAMP:20260424T203153Z
DTSTART:20260502
SUMMARY:Burial
DESCRIPTION:
URL:https://www.millerfuneralfridley.com/obituaries/joann-grambow
LOCATION:Tiffany Cemetery 190 Railroad Ave  Boyceville WI 54725
GEO:45.0407655;-92.0597344
END:VEVENT
END:VCALENDAR