BEGIN:VCALENDAR
VERSION:2.0
PRODID:-//Tukios.com/
BEGIN:VEVENT
UID:08c642d2-4ac1-4e77-92ec-d744ecb55b7d@www.millerfuneralfridley.com
DTSTAMP:20260423T233910Z
DTSTART:20260430T150000Z
DTEND:20260430T160000Z
SUMMARY:Visitation
DESCRIPTION:
URL:https://www.millerfuneralfridley.com/obituaries/julie-nalepka
LOCATION:St. William Catholic Church 6210 Highway 65 Northeast  Fridley 
	MN 55432
GEO:45.0809552;-93.2443537
END:VEVENT
END:VCALENDAR