BEGIN:VCALENDAR
VERSION:2.0
PRODID:-//Tukios.com/
BEGIN:VEVENT
UID:93dfd1f7-7758-4e12-a002-004c1beca688@www.millerfuneralfridley.com
DTSTAMP:20260423T234021Z
DTSTART:20260430T160000Z
DTEND:20260430T170000Z
SUMMARY:Funeral Service
DESCRIPTION:
URL:https://www.millerfuneralfridley.com/obituaries/julie-nalepka
LOCATION:St. William Catholic Church 6210 Highway 65 Northeast  Fridley 
	MN 55432
GEO:45.0809552;-93.2443537
END:VEVENT
END:VCALENDAR